BEGIN:VCALENDAR
VERSION:2.0
PRODID:-//Psicofen - ECPv6.15.18//NONSGML v1.0//EN
CALSCALE:GREGORIAN
METHOD:PUBLISH
X-WR-CALNAME:Psicofen
X-ORIGINAL-URL:https://psicofen.com
X-WR-CALDESC:Eventi per Psicofen
REFRESH-INTERVAL;VALUE=DURATION:PT1H
X-Robots-Tag:noindex
X-PUBLISHED-TTL:PT1H
BEGIN:VTIMEZONE
TZID:Europe/Rome
BEGIN:DAYLIGHT
TZOFFSETFROM:+0100
TZOFFSETTO:+0200
TZNAME:CEST
DTSTART:20250330T010000
END:DAYLIGHT
BEGIN:STANDARD
TZOFFSETFROM:+0200
TZOFFSETTO:+0100
TZNAME:CET
DTSTART:20251026T010000
END:STANDARD
BEGIN:DAYLIGHT
TZOFFSETFROM:+0100
TZOFFSETTO:+0200
TZNAME:CEST
DTSTART:20260329T010000
END:DAYLIGHT
BEGIN:STANDARD
TZOFFSETFROM:+0200
TZOFFSETTO:+0100
TZNAME:CET
DTSTART:20261025T010000
END:STANDARD
BEGIN:DAYLIGHT
TZOFFSETFROM:+0100
TZOFFSETTO:+0200
TZNAME:CEST
DTSTART:20270328T010000
END:DAYLIGHT
BEGIN:STANDARD
TZOFFSETFROM:+0200
TZOFFSETTO:+0100
TZNAME:CET
DTSTART:20271031T010000
END:STANDARD
END:VTIMEZONE
BEGIN:VEVENT
DTSTART;TZID=Europe/Rome:20260301T090000
DTEND;TZID=Europe/Rome:20260920T180000
DTSTAMP:20260419T155455
CREATED:20251126T190524Z
LAST-MODIFIED:20251218T184241Z
UID:3820-1772355600-1789927200@psicofen.com
SUMMARY:Corso Base di Psicopatologia Fenomenologica 2026 - in presenza
DESCRIPTION:Il razionale scientifico: mettere al centro la corporeità\nLa nuova edizione del Corso Base di Psicopatologia Fenomenologica 2026\, a cura della Scuola di Psicoterapia Fenomenologico-Dinamica di Firenze in collaborazione con il Centro Studi Psicofen\, pone quest’anno al centro della riflessione psicopatologica il tema della corporeità. \nAttraverso cinque incontri monografici\, esploreremo il corpo vivo nelle sue declinazioni narcisistica\, isterica\, melanconica\, borderline e schizofrenica. \nOgni incontro unirà un’introduzione generale\, un approfondimento sulla dimensione corporea del disturbo\, e l’analisi di un caso clinico\, dispiegato secondo un approccio fenomenologico. Ai relatori senior\, che già nelle scorse edizioni hanno tenuto animato il Corso Base\, si affiancheranno giovani didatti formatisi nella Scuola Fenomenologico Dinamica di Firenze\, in un dialogo generazionale tra esperienza clinica e nuove prospettive di ricerca. \nIl percorso formativo ha un taglio eminentemente clinico: l’obiettivo è fornire strumenti concreti per effettuare un assessment psicopatologico fondato sulla sintonizzazione intercorporea\, e per impostare un progetto terapeutico radicato nell’esperienza vissuta del paziente. \nLocandina Corso Base 2026\nBrochure Corso Base 2026\n \n Calendario degli incontri\n\n1 marzo 2026 – Corpi narcisisti – Relatori: Giovanni Stanghellini\, Giuseppe Salerno\n12 aprile 2026 – Corpi isterici – Relatori: Antonello Correale\, Cecilia Esposito\n3 maggio 2026 – Corpi melancolici – Relatori: Giovanni Stanghellini\, Matteo Ballabio\n7 giugno 2026 – Corpi borderline – Relatori: Mario Rossi Monti\, Micaela Abbonizio\n20 settembre 2026 – Corpi schizofrenici – Relatori: Gilberto Di Petta\, Martina Billeci\n\n\n Informazioni pratiche\nSede: Il Fuligno – via Faenza\, 48 – Firenze \nDurata e orari: Il corso si articola in 5 incontri\, la domenica dalle 9.00 alle 18.00. Le lezioni si svolgeranno esclusivamente in presenza. \nCrediti ECM: Sono previsti 40 crediti ECM. Gli attestati ECM verranno inviati via email entro 90 giorni dal termine del corso\, previo superamento del test finale. \nDestinatari: Il corso è rivolto a medici\, psicologi\, studenti in medicina\, psicologia e filosofia\, specializzandi in psichiatria e psicologia clinica\, operatori della salute mentale\, e a chi studia la salute mentale nell’ambito della filosofia\, delle scienze sociali e delle neuroscienze. \nAttestati di partecipazione: Disponibili su richiesta a seguito di ciascun incontro. \n \n Quote di iscrizione\nTutte le quote includono la partecipazione al corso completo con 40 ECM (salvo dove diversamente specificato): \n\n\nQuota base (con ECM): 750 € + IVA: 915 €\n\n\n\nQuota ridotta per studenti e specializzandi in ambito salute mentale: 500 € + IVA: 610 €\n\n\n\nQuota riservata agli ex allievi della Scuola di Psicoterapia Fenomenologico Dinamica di Firenze: 375 € + IVA: 475\,50 €\n\n\n\n\nSenza ECM: \n\n\n\n\nQuota per partecipazione al corso completo: 550 € + IVA: 671 €\n\n\n\nQuota per partecipazione a un singolo incontro: 170 € + IVA: 207\,4 €\n\n\n \n Modalità di iscrizione e contatti\nL’iscrizione può essere richiesta compilando e inviando a  corsobase@psicofen.com la relativa Scheda di Iscrizione che trovi qui: Scheda Iscrizione Corso Base 2026. Inviare insieme alla Scheda di Iscrizione anche copia contabile del bonifico effettuato. Modalità di pagamento: Bonifico bancario a favore di \n\nIntestazione: Scuola di Psicoterapia e Fenomenologia Clinica srl\nIBAN IT21K0344002811000000343800\n\nInserire come causale: NOME e COGNOME del partecipante e CORSO BASE 2026 \nPer informazioni e iscrizioni scrivi a corsobase@psicofen.com oppure usa il modulo di contatto in basso \nProvider ECM: Maregra srl \nCorso promosso dalla Scuola di Psicoterapia Fenomenologico-Dinamica di Firenze in collaborazione con il Centro Studi Psicofen       \n\n  \n\n\n\n\n\n\n\n\nRichiesta di informazioniIscrizione
URL:https://psicofen.com/evento/corso-base-di-psicopatologia-fenomenologica-2026/
LOCATION:Il Fuligno\, Via Faenza 48\, Firenze\, FI\, 50123\, Italy
CATEGORIES:Psicologia Fenomenologica
ATTACH;FMTTYPE=image/jpeg:https://psicofen.com/wp-content/uploads/2025/11/Copertina-Corso-Base-2026-Aggiornata-scaled.jpg
ORGANIZER;CN="Scuola di Psicoterapia Fenomenologico Dinamica di Firenze":MAILTO:segreteria@fenomenologiadinamica.it
END:VEVENT
END:VCALENDAR